BEGIN:VCALENDAR
VERSION:2.0
PRODID:-//ChamberMaster//Event Calendar 2.0//EN
METHOD:PUBLISH
X-PUBLISHED-TTL:P3D
REFRESH-INTERVAL:P3D
CALSCALE:GREGORIAN
BEGIN:VEVENT
DTSTART:20250612T183000Z
DTEND:20250612T193000Z
X-MICROSOFT-CDO-ALLDAYEVENT:FALSE
SUMMARY:Grand Opening Ribbon Cutting - D.R. Horton new phase in Hampton Hills
DESCRIPTION:Come see the new phase of Hampton Hills by D.R. Horton at their grand opening ribbon cutting!
X-ALT-DESC;FMTTYPE=text/html:Come see the new phase of Hampton Hills by D.R. Horton at their grand opening ribbon cutting!
LOCATION:2926 Lynne Lane Abilene\, Texas 79601
UID:e.3433.5652
SEQUENCE:3
DTSTAMP:20260421T182750Z
URL:https://business.growabilene.com/events/details/grand-opening-ribbon-cutting-d-r-horton-new-phase-in-hampton-hills-5652
END:VEVENT

END:VCALENDAR
