BEGIN:VCALENDAR
VERSION:2.0
PRODID:-//ChamberMaster//Event Calendar 2.0//EN
METHOD:PUBLISH
X-PUBLISHED-TTL:P3D
REFRESH-INTERVAL:P3D
CALSCALE:GREGORIAN
BEGIN:VEVENT
DTSTART:20240130T154500Z
DTEND:20240130T161500Z
X-MICROSOFT-CDO-ALLDAYEVENT:FALSE
SUMMARY:Grand Opening Ribbon Cutting - Abilene Christian School New High School
DESCRIPTION:Join us as we celebrate the grand opening of the new high school at Abilene Christian School!
X-ALT-DESC;FMTTYPE=text/html:Join us as we celebrate the grand opening of the new high school at Abilene Christian School!
LOCATION:2550 N Judge Ely Blvd Abilene\, TX 79601
UID:e.3433.5200
SEQUENCE:3
DTSTAMP:20260421T164216Z
URL:https://business.growabilene.com/events/details/grand-opening-ribbon-cutting-abilene-christian-school-new-high-school-5200
END:VEVENT

END:VCALENDAR
