BEGIN:VCALENDAR
VERSION:2.0
PRODID:-//ChamberMaster//Event Calendar 2.0//EN
METHOD:PUBLISH
X-PUBLISHED-TTL:P3D
REFRESH-INTERVAL:P3D
CALSCALE:GREGORIAN
BEGIN:VEVENT
DTSTART:20230419T214500Z
DTEND:20230419T223000Z
X-MICROSOFT-CDO-ALLDAYEVENT:FALSE
SUMMARY:Grand Opening Ribbon Cutting - 325 Nutrition
DESCRIPTION:Coming out and meet the team at 325 Nutrition for their Grand Opening!
X-ALT-DESC;FMTTYPE=text/html:Coming out and meet the team at 325 Nutrition for their Grand Opening!
LOCATION:1181 TX-351 Abilene\, TX 79601
UID:e.3433.4944
SEQUENCE:3
DTSTAMP:20260422T154905Z
URL:https://business.growabilene.com/events/details/grand-opening-ribbon-cutting-325-nutrition-4944
END:VEVENT

END:VCALENDAR
