BEGIN:VCALENDAR
VERSION:2.0
PRODID:-//ChamberMaster//Event Calendar 2.0//EN
METHOD:PUBLISH
X-PUBLISHED-TTL:P3D
REFRESH-INTERVAL:P3D
CALSCALE:GREGORIAN
BEGIN:VEVENT
DTSTART:20190627T214500Z
DTEND:20190627T224500Z
X-MICROSOFT-CDO-ALLDAYEVENT:FALSE
SUMMARY:Grand Opening/Relocation - Elite Eyecare of Abilene
DESCRIPTION:
X-ALT-DESC;FMTTYPE=text/html:
LOCATION:
UID:e.3433.3739
SEQUENCE:3
DTSTAMP:20260426T043128Z
URL:https://business.growabilene.com/events/details/grand-opening-relocation-elite-eyecare-of-abilene-3739
END:VEVENT

END:VCALENDAR
