BEGIN:VCALENDAR
VERSION:2.0
PRODID:-//ChamberMaster//Event Calendar 2.0//EN
METHOD:PUBLISH
X-PUBLISHED-TTL:P3D
REFRESH-INTERVAL:P3D
CALSCALE:GREGORIAN
BEGIN:VEVENT
DTSTART:20220912T210000Z
DTEND:20220912T220000Z
X-MICROSOFT-CDO-ALLDAYEVENT:FALSE
SUMMARY:Grand Opening / New Member Ribbon Cutting - Twisted Root Burger Co
DESCRIPTION:
X-ALT-DESC;FMTTYPE=text/html:
LOCATION:2419 N Judge Ely Abilene\, Texas 79601
UID:e.3433.4796
SEQUENCE:3
DTSTAMP:20260423T030223Z
URL:https://business.growabilene.com/events/details/grand-opening-new-member-ribbon-cutting-twisted-root-burger-co-4796
END:VEVENT

END:VCALENDAR
