BEGIN:VCALENDAR
VERSION:2.0
PRODID:-//ChamberMaster//Event Calendar 2.0//EN
METHOD:PUBLISH
X-PUBLISHED-TTL:P3D
REFRESH-INTERVAL:P3D
CALSCALE:GREGORIAN
BEGIN:VEVENT
DTSTART:20240125T220000Z
DTEND:20240125T230000Z
X-MICROSOFT-CDO-ALLDAYEVENT:FALSE
SUMMARY:Grand Opening / New Member Ribbon Cutting - Eye Spy Escape Rooms
DESCRIPTION:Come out and join us as we celebrate the grand opening of one of our new Chamber members - Eye Spy Escape Rooms!
X-ALT-DESC;FMTTYPE=text/html:Come out and join us as we celebrate the grand opening of one of our new Chamber members - Eye Spy Escape Rooms!
LOCATION:1401 S Danville Dr. Abilene\, TX 79605
UID:e.3433.5198
SEQUENCE:3
DTSTAMP:20260421T182647Z
URL:https://business.growabilene.com/events/details/grand-opening-new-member-ribbon-cutting-eye-spy-escape-rooms-5198
END:VEVENT

END:VCALENDAR
