BEGIN:VCALENDAR
VERSION:2.0
PRODID:-//ChamberMaster//Event Calendar 2.0//EN
METHOD:PUBLISH
X-PUBLISHED-TTL:P3D
REFRESH-INTERVAL:P3D
CALSCALE:GREGORIAN
BEGIN:VEVENT
DTSTART:20211104T163000Z
DTEND:20211104T170000Z
X-MICROSOFT-CDO-ALLDAYEVENT:FALSE
SUMMARY:Grand Opening - KeyCity Property Management - Westwood Community
DESCRIPTION:Join us as we celebrate the Grand Opening of the Westwood Community with a Ribbon Cutting Ceremony!
X-ALT-DESC;FMTTYPE=text/html:Join us as we celebrate the Grand Opening of the Westwood Community with<span style="color: rgb(51\, 51\, 51)\; font-family: sans-serif\, Arial\, Verdana\, &quot\;Trebuchet MS&quot\;\; font-size: 13px\; background-color: rgb(255\, 255\, 255)\;">&nbsp\;a Ribbon Cutting Ceremony</span>!
LOCATION:Westwood Apartments 600 Westwood Drive Abilene\, Texas
UID:e.3433.4502
SEQUENCE:3
DTSTAMP:20260423T205136Z
URL:https://business.growabilene.com/events/details/grand-opening-keycity-property-management-westwood-community-4502
END:VEVENT

END:VCALENDAR
