BEGIN:VCALENDAR
VERSION:2.0
PRODID:-//ChamberMaster//Event Calendar 2.0//EN
METHOD:PUBLISH
X-PUBLISHED-TTL:P3D
REFRESH-INTERVAL:P3D
CALSCALE:GREGORIAN
BEGIN:VEVENT
DTSTART:20220708T180000Z
DTEND:20220708T190000Z
X-MICROSOFT-CDO-ALLDAYEVENT:FALSE
SUMMARY:Grand Opening - Crumbl Cookies
DESCRIPTION:
X-ALT-DESC;FMTTYPE=text/html:
LOCATION:3560 S Clack St Abilene\, Texas 79606
UID:e.3433.4727
SEQUENCE:3
DTSTAMP:20260423T060140Z
URL:https://business.growabilene.com/events/details/grand-opening-crumbl-cookies-4727
END:VEVENT

END:VCALENDAR
