BEGIN:VCALENDAR
VERSION:2.0
PRODID:-//ChamberMaster//Event Calendar 2.0//EN
METHOD:PUBLISH
X-PUBLISHED-TTL:P3D
REFRESH-INTERVAL:P3D
CALSCALE:GREGORIAN
BEGIN:VEVENT
DTSTART:20250604T213000Z
DTEND:20250604T223000Z
X-MICROSOFT-CDO-ALLDAYEVENT:FALSE
SUMMARY:New Member Ribbon Cutting Airrosti Rehab Centers\, LLC - Abilene
DESCRIPTION:Join us for the ribbon cutting for Airrosti Rehab Centers\, LLC - Abilene!
X-ALT-DESC;FMTTYPE=text/html:Join us for the ribbon cutting for Airrosti Rehab Centers\, LLC - Abilene!
LOCATION:4400Buffalo Gap Rd\, Ste. 2450 Abilene\, TX 79606
UID:e.3433.5646
SEQUENCE:3
DTSTAMP:20260421T172409Z
URL:https://business.growabilene.com/events/details/grand-opening-airrosti-rehab-centers-llc-abilene-5646
END:VEVENT

END:VCALENDAR
