BEGIN:VCALENDAR
VERSION:2.0
PRODID:-//ChamberMaster//Event Calendar 2.0//EN
METHOD:PUBLISH
X-PUBLISHED-TTL:P3D
REFRESH-INTERVAL:P3D
CALSCALE:GREGORIAN
BEGIN:VEVENT
DTSTART:20250326T150000Z
DTEND:20250326T233000Z
X-MICROSOFT-CDO-ALLDAYEVENT:FALSE
SUMMARY:Get Your Tickets for Business Expo 2025: Business is Bloomin' presented by Fat Matt\, Orangetheory Fitness\, and Vital Care Urgent Care
DESCRIPTION:Business Expo is the Abilene Chamber of Commerce's annual high-energy trade show where businesses and consumers connect in a dynamic business-to-business atmosphere. This signature event of the Chamber is a great opportunity to gain new leads\, customers\, and gives your brand visibility in the Big Country marketplace. This is an ideal venue to introduce a new product or service or reacquaint the business community with your company. We would like to thank our presenting sponsors - Vital Care Urgent Care\, Fat Matt LLC\, and Orangetheory Fitness - for their support of this event. Ask us how you can maximize your brand visibility at Expo! \n\n\nBUT WAIT.... there's MORE!\n\nBe sure to also stick around AFTER Business Expo\, for our Business After Hours sponsored by First Bank Texas. Enjoy live music provided by CareFest and complimentary beverages from Reed Beverage and appetizers from Market Street. \n\n\n\nClick Here to View Live and Silent Auction Items\, sponsored by Abilene Environmental Landfill!\n\n\n\n---\n\n\n\nPlease note: This event is being photographed and/or videotaped and your image may be used in connection with the advertising and promotion of the Abilene Chamber of Commerce.
X-ALT-DESC;FMTTYPE=text/html:<span style="color:#1D2129\;"><span style="font-family: helvetica\, sans-serif\; font-size: 10.5pt\;">Business Expo is the Abilene Chamber of Commerce&#39\;s annual high-energy trade show where businesses and consumers connect in a dynamic business-to-business atmosphere. This signature event of the Chamber is a great opportunity to gain new leads\, customers\, and gives your brand visibility in the Big Country marketplace. This is an ideal venue to introduce a new product or service or reacquaint the business community with your company. We would like to thank our presenting sponsors -&nbsp\;<a href="https://vitalcaretx.com/27th-street-abilene">Vital Care Urgent Care</a></span>\,&nbsp\;</span><span style="color:#1D2129\;"><span style="font-family:helvetica\,sans-serif\;"><span style="font-size:10.5pt\;"><a href="https://www.fatmattroofing.com/">Fat Matt LLC</a>\,&nbsp\;and <a href="https://www.orangetheory.com/en-us?utm_medium=sem&amp\;utm_source=bg&amp\;utm_term=tombras&amp\;utm_campaign=425322259--FreeClass--NationalPromotion--Orangetheory-PPC-Brand&amp\;utm_content=:&amp\;msclkid=6803a95562231d47c3cdcef7f6ea0c05">Orangetheory Fitness</a> - for their support of this event. Ask us how you can maximize your brand visibility at Expo!&nbsp\;</span></span></span>\n<div><br />\n<span style="font-size: 14px\;"><strong>BUT WAIT.... there&#39\;s MORE!</strong></span><br />\nBe sure to also stick around AFTER Business Expo\, for our&nbsp\;<strong><a href="https://business.abilenechamber.com/events/details/03-26-25-business-expo-after-hours-sponsored-by-first-bank-texas-5417"><span style="color: rgb(255\, 0\, 0)\;">Business After Hours sponsored by First Bank</span></a></strong>&nbsp\;Texas.&nbsp\;Enjoy live music provided by&nbsp\;<a href="https://resourcecarefest.com/">CareFest</a>&nbsp\;and complimentary beverages from&nbsp\;<a href="https://www.reedbeverage.com/">Reed Beverage</a>&nbsp\;and appetizers from&nbsp\;<a href="https://local.marketstreetunited.com/tx/abilene/4450-buffalo-gap-rd.html">Market Street</a>.&nbsp\;<br />\n<br />\nClick&nbsp\;<strong><a href="https://auctria.events/2025BusinessExpo"><span style="color: rgb(255\, 0\, 0)\;">Here</span></a></strong>&nbsp\;to View Live and Silent Auction Items\, sponsored by&nbsp\;<a href="https://www.aelandfill.com/">Abilene Environmental Landfill</a>!<br />\n<br style="color: rgb(51\, 51\, 51)\; font-family: sans-serif\, Arial\, Verdana\, &quot\;Trebuchet MS&quot\;\; font-size: 13px\;" />\n<span style="color: rgb(51\, 51\, 51)\; font-family: sans-serif\, Arial\, Verdana\, &quot\;Trebuchet MS&quot\;\; font-size: 13px\; background-color: rgb(255\, 255\, 255)\;">---</span><br style="color: rgb(51\, 51\, 51)\; font-family: sans-serif\, Arial\, Verdana\, &quot\;Trebuchet MS&quot\;\; font-size: 13px\;" />\n<br style="color: rgb(51\, 51\, 51)\; font-family: sans-serif\, Arial\, Verdana\, &quot\;Trebuchet MS&quot\;\; font-size: 13px\;" />\n<span style="color: rgb(51\, 51\, 51)\; font-family: sans-serif\, Arial\, Verdana\, &quot\;Trebuchet MS&quot\;\; font-size: 13px\; background: white\;"><span style="font-family: arial\, sans-serif\;"><span style="font-size: 7pt\;">Please note: This event is being photographed and/or videotaped and your image may be used in connection with the advertising and promotion of the Abilene Chamber of Commerce.</span></span></span></div>\n
LOCATION:Abilene Convention Center 1100 N. 6th Street Abilene\, TX 79601
UID:e.3433.5580
SEQUENCE:3
DTSTAMP:20260421T213955Z
URL:https://business.growabilene.com/events/details/get-your-tickets-for-business-expo-2025-business-is-bloomin-presented-by-fat-matt-orangetheory-fitness-and-vital-care-urgent-care-5580
END:VEVENT

END:VCALENDAR
