BEGIN:VCALENDAR
VERSION:2.0
PRODID:-//ChamberMaster//Event Calendar 2.0//EN
METHOD:PUBLISH
X-PUBLISHED-TTL:P3D
REFRESH-INTERVAL:P3D
CALSCALE:GREGORIAN
BEGIN:VEVENT
DTSTART:20210811T000000Z
DTEND:20210811T010000Z
X-MICROSOFT-CDO-ALLDAYEVENT:FALSE
SUMMARY:General Interest Meeting to Learn About Becoming a Mentor for Mentors Care
DESCRIPTION:Have you ever thought about being a mentor?\n\n\n\nMentors Care is a new program coming to the Wylie High School campus this year and they need your help! This program places students who might be at risk of not graduating high school with a mentor from the community who can help guide them toward graduation as well as a meaningful future after graduation. These mentors meet with the student on campus for one hour a week for 26 weeks of the school year. The key to the success of this program is the support of the Abilene community serving these kids that attend Wylie High School. If you are interested in the possibility of being a mentor in this program\, we invite you to come to the Mentors Care General Interest Meeting to learn more about becoming a mentor. If you are unable to attend the meeting or would like more information\, contact Mark Blakely at mark.blakely@mentors.care.\n\n\n\nVisit our website for more information and to watch a video about this awesome program!\n\n\n\nhttps://www.wyliebulldogs.org/mentorscare
X-ALT-DESC;FMTTYPE=text/html:<p>Have you ever thought about being a mentor?<br />\n<br />\nMentors Care is a new program coming to the Wylie High School campus this year and they need your help! This program places students who might be at risk of not graduating high school with a mentor from the community who can help guide them toward graduation as well as a meaningful future after graduation. These mentors meet with the student on campus for one hour a week for 26 weeks of the school year. The key to the success of this program is the support of the Abilene community serving these kids that attend Wylie High School. If you are interested in the possibility of being a mentor in this program\, we invite you to come to the Mentors Care General Interest Meeting to learn more about becoming a mentor. If you are unable to attend the meeting or would like more information\, contact Mark Blakely at&nbsp\;<a href="mailto:mark.blakely@mentors.care" rel="noopener noreferrer" style="color: blue\; cursor: pointer\;">mark.blakely@mentors.care</a>.<br />\n<br />\nVisit our website for more information and to watch a video about this awesome program!<br />\n<br />\n<a href="https://www.wyliebulldogs.org/mentorscare" rel="nofollow noopener noreferrer" style="color: blue\; cursor: pointer\;" target="_blank">https://www.wyliebulldogs.org/mentorscare</a></p>\n
LOCATION:Beltway Park Church South Campus Meeting will be held in the Chapel
UID:e.3433.4450
SEQUENCE:3
DTSTAMP:20260424T020110Z
URL:https://business.growabilene.com/events/details/general-interest-meeting-to-learn-about-becoming-a-mentor-for-mentors-care-4450
END:VEVENT

END:VCALENDAR
