BEGIN:VCALENDAR
VERSION:2.0
PRODID:-//ChamberMaster//Event Calendar 2.0//EN
METHOD:PUBLISH
X-PUBLISHED-TTL:P3D
REFRESH-INTERVAL:P3D
CALSCALE:GREGORIAN
BEGIN:VEVENT
DTSTART:20240213T220000Z
DTEND:20240214T020000Z
X-MICROSOFT-CDO-ALLDAYEVENT:FALSE
SUMMARY:Galentine's at venture19 Abilene
DESCRIPTION:Grab your girlfriends and come to celebrate Galentine's Day with venture19 Abilene by sippin' & shopping! We have TONS of new arrivals PLUS pink wine cocktails\, finger foods\, Valentine's sweets + 13% off your entire regular-priced purchase (some exclusions may apply). We can't wait to see you there!
X-ALT-DESC;FMTTYPE=text/html:<span style="color:rgb(5\, 5\, 5)\; font-family:segoe ui historic\,segoe ui\,helvetica\,arial\,sans-serif\; font-size:15px">Grab your girlfriends and come to celebrate Galentine&#39\;s Day with venture19 Abilene by sippin&#39\; &amp\; shopping! We have TONS of new arrivals PLUS pink wine cocktails\, finger foods\, Valentine&#39\;s sweets + 13% off your entire regular-priced purchase (some exclusions may apply). We can&#39\;t wait to see you there!</span>
LOCATION:6442 Buffalo Gap Rd\, Abilene\, TX 79606
UID:e.3433.5227
SEQUENCE:3
DTSTAMP:20260421T144319Z
URL:https://business.growabilene.com/events/details/galentine-s-at-venture19-abilene-5227
END:VEVENT

END:VCALENDAR
