BEGIN:VCALENDAR
VERSION:2.0
PRODID:-//ChamberMaster//Event Calendar 2.0//EN
METHOD:PUBLISH
X-PUBLISHED-TTL:P3D
REFRESH-INTERVAL:P3D
CALSCALE:GREGORIAN
BEGIN:VEVENT
DTSTART:20240622T130000Z
DTEND:20240622T160000Z
X-MICROSOFT-CDO-ALLDAYEVENT:FALSE
SUMMARY:Free Dog & Cat Vaccine Clinic
DESCRIPTION:Join us on Saturday\, June 22nd from 8am to 11am\, All Kind will offer FREE HCP vaccines for cats and FREE DAAPV vaccines for dogs in a drive-thru clinic at the Abilene Animal Shelter. Vaccines will be offered on a first come\, first serve basis. No registration needed prior to the event. ALL CATS MUST BE IN A CARRIER. Vaccines are made available through Petco Love's national vaccination initiative which is to provide 2 million pet vaccines to its existing animal welfare partners\, including All Kind Animal Initiative\, for family pets in need.
X-ALT-DESC;FMTTYPE=text/html:Join us on Saturday\, June 22nd from 8am to 11am\, All Kind will offer FREE HCP vaccines for cats and FREE DAAPV vaccines for dogs in a drive-thru clinic at the Abilene Animal Shelter. Vaccines will be offered on a first come\, first serve basis. No registration needed prior to the event. ALL CATS MUST BE IN A CARRIER. Vaccines are made available through Petco Love&#39\;s national vaccination initiative which is to provide 2 million pet vaccines to its existing animal welfare partners\, including All Kind Animal Initiative\, for family pets in need.
LOCATION:925 S. 25th St.
UID:e.3433.5320
SEQUENCE:3
DTSTAMP:20260421T075522Z
URL:https://business.growabilene.com/events/details/free-dog-cat-vaccine-clinic-5320
END:VEVENT

END:VCALENDAR
