BEGIN:VCALENDAR
VERSION:2.0
PRODID:-//ChamberMaster//Event Calendar 2.0//EN
METHOD:PUBLISH
X-PUBLISHED-TTL:P3D
REFRESH-INTERVAL:P3D
CALSCALE:GREGORIAN
BEGIN:VEVENT
DTSTART:20240529T160000Z
DTEND:20240529T170000Z
X-MICROSOFT-CDO-ALLDAYEVENT:FALSE
SUMMARY:Fraud Can’t Happen in My Business! Wanna Bet?
DESCRIPTION:This webinar will cover the mechanisms behind fraud\, its root causes\, various types of fraud\, preventive strategies\, and the critical importance for small business owners to proactively combat fraud.
X-ALT-DESC;FMTTYPE=text/html:This webinar will cover the mechanisms behind fraud\, its root causes\, various types of fraud\, preventive strategies\, and the critical importance for small business owners to proactively combat fraud.
LOCATION:Abilene SBDC 749 Gateway St.\, Ste. 301\, Blg. C Abilene\, TX 79602
UID:e.3433.5290
SEQUENCE:3
DTSTAMP:20260421T104543Z
URL:https://business.growabilene.com/events/details/fraud-can-t-happen-in-my-business-wanna-bet-5290
END:VEVENT

END:VCALENDAR
