BEGIN:VCALENDAR
VERSION:2.0
PRODID:-//ChamberMaster//Event Calendar 2.0//EN
METHOD:PUBLISH
X-PUBLISHED-TTL:P3D
REFRESH-INTERVAL:P3D
CALSCALE:GREGORIAN
BEGIN:VEVENT
DTSTART:20240628T160000Z
DTEND:20240628T170000Z
X-MICROSOFT-CDO-ALLDAYEVENT:FALSE
SUMMARY:Expansion/Renovation Abilene Woman's Club Foundation\, Inc.
DESCRIPTION:Come join the team at the Abilene Woman's Club Foundation\, Inc. as we celebrate their expansion and new renovations!
X-ALT-DESC;FMTTYPE=text/html:Come join the team at the Abilene Woman&#39\;s Club Foundation\, Inc. as we celebrate their expansion and new renovations!
LOCATION:3424 S 14th Street Abilene\, TX 79605
UID:e.3433.5326
SEQUENCE:3
DTSTAMP:20260421T075824Z
URL:https://business.growabilene.com/events/details/expansion-renovation-abilene-woman-s-club-foundation-inc-5326
END:VEVENT

END:VCALENDAR
