BEGIN:VCALENDAR
VERSION:2.0
PRODID:-//ChamberMaster//Event Calendar 2.0//EN
METHOD:PUBLISH
X-PUBLISHED-TTL:P3D
REFRESH-INTERVAL:P3D
CALSCALE:GREGORIAN
BEGIN:VEVENT
DTSTART:20231116T180000Z
DTEND:20231116T193000Z
X-MICROSOFT-CDO-ALLDAYEVENT:FALSE
SUMMARY:Ending the Year Right
DESCRIPTION:Your year-end reports must be completed accurately and in a timely manner\, without exception. Join us for a discussion surrounding updates and items to keep in mind as you prepare for year-end. We'll provide information to help you correctly report both 1099 and W2s for 2023 and provide relevant updates for federal compliance. Learning Objectives Identify taxable fringe benefits. Discuss new payroll updates. Summarize the 2023 1099 reporting requirements. Examine new federal e-file requirements.
X-ALT-DESC;FMTTYPE=text/html:Your year-end reports must be completed accurately and in a timely manner\, without exception. Join us for a discussion surrounding updates and items to keep in mind as you prepare for year-end. We&rsquo\;ll provide information to help you correctly report both 1099 and W2s for 2023 and provide relevant updates for federal compliance. Learning Objectives Identify taxable fringe benefits. Discuss new payroll updates. Summarize the 2023 1099 reporting requirements. Examine new federal e-file requirements.
LOCATION:Online webinar
UID:e.3433.5114
SEQUENCE:3
DTSTAMP:20260421T194407Z
URL:https://business.growabilene.com/events/details/ending-the-year-right-11-16-2023-5114
END:VEVENT

END:VCALENDAR
