BEGIN:VCALENDAR
VERSION:2.0
PRODID:-//ChamberMaster//Event Calendar 2.0//EN
METHOD:PUBLISH
X-PUBLISHED-TTL:P3D
REFRESH-INTERVAL:P3D
CALSCALE:GREGORIAN
BEGIN:VEVENT
DTSTART:20231104T130000Z
DTEND:20231104T160000Z
X-MICROSOFT-CDO-ALLDAYEVENT:FALSE
SUMMARY:Dog Vaccine Clinic
DESCRIPTION:Help protect your dog from distemper and parvo with this free clinic. Join us on Saturday\, November 4th from 8am to 11am. All Kind will offer FREE DAPPV vaccines for dogs in a drive-thru clinic at the Abilene Animal Shelter. Vaccines will be offered on a first come\, first serve basis. No registration needed prior to the event. Vaccines are made available through Petco Love's national vaccination initiative which is to provide 2 million pet vaccines to its existing animal welfare partners\, including All Kind Animal Initiative\, for family pets in need.
X-ALT-DESC;FMTTYPE=text/html:Help protect your dog from distemper and parvo with this free clinic. Join us on Saturday\, November 4th from 8am to 11am. All Kind will offer FREE DAPPV vaccines for dogs in a drive-thru clinic at the Abilene Animal Shelter. Vaccines will be offered on a first come\, first serve basis. No registration needed prior to the event. Vaccines are made available through Petco Love&#39\;s national vaccination initiative which is to provide 2 million pet vaccines to its existing animal welfare partners\, including All Kind Animal Initiative\, for family pets in need.
LOCATION:Abilene Animal Shelter
UID:e.3433.5086
SEQUENCE:3
DTSTAMP:20260421T194526Z
URL:https://business.growabilene.com/events/details/dog-vaccine-clinic-5086
END:VEVENT

END:VCALENDAR
