BEGIN:VCALENDAR
VERSION:2.0
PRODID:-//ChamberMaster//Event Calendar 2.0//EN
METHOD:PUBLISH
X-PUBLISHED-TTL:P3D
REFRESH-INTERVAL:P3D
CALSCALE:GREGORIAN
BEGIN:VEVENT
DTSTART:20240412T143000Z
DTEND:20240412T163000Z
X-MICROSOFT-CDO-ALLDAYEVENT:FALSE
SUMMARY:Damon West at West Texas Rehab Center
DESCRIPTION:Be a Coffee Bean: Hear the message that groups all over the country are implementing as their motto: Be A Coffee Bean! This presentation is designed to implement the vitally important message of the coffee bean\, that the power to change any situation is within you\, not in the outside forces around you. Damon's message not only addresses physical and mental well-being but provides real\, lived experience on growth through adversity. The leadership aspects of the coffee bean message provides much needed skills and tips for living and leading a positive life.
X-ALT-DESC;FMTTYPE=text/html:Be a Coffee Bean: Hear the message that&nbsp\;groups all over the country are implementing as their motto: Be A Coffee Bean! This presentation is designed to implement the vitally important message of the coffee bean\, that the power to change any situation is within you\, not in the outside forces around you. Damon&rsquo\;s message not only addresses physical and mental well-being but provides real\, lived experience on growth through adversity. The leadership aspects of the coffee bean message provides much needed skills and tips for living and leading a positive life.
LOCATION:Beltway Church\, North
UID:e.3433.5232
SEQUENCE:3
DTSTAMP:20260421T103922Z
URL:https://business.growabilene.com/events/details/damon-west-at-west-texas-rehab-center-5232
END:VEVENT

END:VCALENDAR
