BEGIN:VCALENDAR
VERSION:2.0
PRODID:-//ChamberMaster//Event Calendar 2.0//EN
METHOD:PUBLISH
X-PUBLISHED-TTL:P3D
REFRESH-INTERVAL:P3D
CALSCALE:GREGORIAN
BEGIN:VEVENT
DTSTART:20250423T160000Z
DTEND:20250423T180000Z
X-MICROSOFT-CDO-ALLDAYEVENT:FALSE
SUMMARY:CTAN Lunch & Learn: Portfolio Metrics
DESCRIPTION:Join us for this Central Texas Angel Network Lunch & Learn series! This lunch & learn will focus on portfolio metrics\, providing investors with key insights on how to track\, evaluate\, and optimize the performance of their startup investments. Whether you're new to angel investing or looking to sharpen your portfolio management skills\, this session will offer practical tools and expert guidance to help you make data-driven decisions and maximize long-term returns.
X-ALT-DESC;FMTTYPE=text/html:Join us for this Central Texas Angel Network Lunch &amp\; Learn series! This lunch &amp\; learn will focus on portfolio metrics\, providing&nbsp\;investors with key insights on how to track\, evaluate\, and optimize the performance of their startup investments. Whether you&#39\;re new to angel investing or looking to sharpen your portfolio management skills\, this session will offer practical tools and expert guidance to help you make data-driven decisions and maximize long-term returns.
LOCATION:Hendrick Medical Center North - Shelton Building 1924 Pine Street Abilene\, TX 79601
UID:e.3433.5614
SEQUENCE:3
DTSTAMP:20260421T212734Z
URL:https://business.growabilene.com/events/details/ctan-lunch-learn-portfolio-metrics-5614
END:VEVENT

END:VCALENDAR
