BEGIN:VCALENDAR
VERSION:2.0
PRODID:-//ChamberMaster//Event Calendar 2.0//EN
METHOD:PUBLISH
X-PUBLISHED-TTL:P3D
REFRESH-INTERVAL:P3D
CALSCALE:GREGORIAN
BEGIN:VEVENT
DTSTART:20240523T170000Z
DTEND:20240523T180000Z
X-MICROSOFT-CDO-ALLDAYEVENT:FALSE
SUMMARY:CTAN Information Session: "Angel Investing is Not a One-on-One Sport”
DESCRIPTION:Interested in angel investing? Join Katie Russel\, CTAN Executive Director & Gary Forni\, CTAN Board Chair for "Angel Investing is Not a One-on-One Sport". This session challenges the notion of angel investing as a solitary pursuit. Join us as we explore the power of collaboration\, networks\, and syndicates in the world of angel investing. Through real-life examples and expert insights\, discover how pooling resources\, expertise\, and connections can amplify investment opportunities and mitigate risks. Whether you're an experienced angel investor or considering entering the realm\, this talk will reshape your perspective and unveil the collective strength of collaborative investing.
X-ALT-DESC;FMTTYPE=text/html:<font color="black">Interested in angel investing? Join Katie Russel\, CTAN Executive Director &amp\; Gary Forni\, CTAN Board Chair for &quot\;Angel Investing is Not a One-on-One Sport&quot\;. This session challenges the notion of angel investing as a solitary pursuit. Join us as we explore the power of collaboration\, networks\, and syndicates in the world of angel investing. Through real-life examples and expert insights\, discover how pooling resources\, expertise\, and connections can amplify investment opportunities and mitigate risks. Whether you&#39\;re an experienced angel investor or considering entering the realm\, this talk will reshape your perspective and unveil the collective strength of collaborative investing.&nbsp\;</font>
LOCATION:Double Tree by Hilton Abilene Downtown Convention Center 500 Cypress St\, Abilene TX 79601
UID:e.3433.5292
SEQUENCE:3
DTSTAMP:20260421T094213Z
URL:https://business.growabilene.com/events/details/ctan-information-session-angel-investing-is-not-a-one-on-one-sport-5292
END:VEVENT

END:VCALENDAR
