BEGIN:VCALENDAR
VERSION:2.0
PRODID:-//ChamberMaster//Event Calendar 2.0//EN
METHOD:PUBLISH
X-PUBLISHED-TTL:P3D
REFRESH-INTERVAL:P3D
CALSCALE:GREGORIAN
BEGIN:VEVENT
DTSTART:20240415T170000Z
DTEND:20240415T180000Z
X-MICROSOFT-CDO-ALLDAYEVENT:FALSE
SUMMARY:CTAN - 2024 Funding Cycle 3 Information Session
DESCRIPTION:Join us virtually on Monday\, April 15 from 12-1PM CT for a CTAN funding Information Session.\n\nHaving invested $125 million in 208 companies since 2006\, Central Texas Angel Network (CTAN) is one of the most active angel investing groups in the U.S. Headquartered in Austin\, Texas\, CTAN features more than 100 accredited investor business leaders from an extensive cross -section of sectors and backgrounds. CTAN members not only invest directly into startups and funds\; they mentor and connect entrepreneurs to business resources\, providing critical support to the success of early -stage business and the Texas economy.
X-ALT-DESC;FMTTYPE=text/html:<p style="font-family: -apple-system\, BlinkMacSystemFont\, Roboto\, &quot\;Helvetica Neue&quot\;\, Helvetica\, Tahoma\, Arial\, sans-serif\; margin: 0px\; padding: 10px 0px 0px\; box-sizing: border-box\; color: rgb(111\, 114\, 135)\; font-size: 16px\; line-height: 1.5rem\;"><span style="color:#000000\;"><span style="font-family:arial\;"><span style="font-size:14px\;">Join us virtually on Monday\, April 15 from 12-1PM CT for a CTAN funding&nbsp\;Information Session.</span></span></span></p>\n\n<p style="font-family: -apple-system\, BlinkMacSystemFont\, Roboto\, &quot\;Helvetica Neue&quot\;\, Helvetica\, Tahoma\, Arial\, sans-serif\; margin: 0px\; padding: 10px 0px 0px\; box-sizing: border-box\; color: rgb(111\, 114\, 135)\; font-size: 16px\; line-height: 1.5rem\;"><span style="color:#000000\;"><span style="font-family:arial\;"><span style="font-size:14px\;">Having invested $125 million in 208 companies since 2006\, Central Texas Angel Network (CTAN) is one of the most active angel investing groups in the U.S. Headquartered in Austin\, Texas\, CTAN features more than 100 accredited investor business leaders from an extensive cross&shy\;-section of sectors and backgrounds. CTAN members not only invest directly into startups and funds\; they mentor and connect entrepreneurs to business resources\, providing critical support to the success of early&shy\;-stage business and the Texas economy.</span></span></span></p>\n\n<p style="font-family: -apple-system\, BlinkMacSystemFont\, Roboto\, &quot\;Helvetica Neue&quot\;\, Helvetica\, Tahoma\, Arial\, sans-serif\; margin: 0px\; padding: 10px 0px 0px\; box-sizing: border-box\; color: rgb(111\, 114\, 135)\; font-size: 16px\; line-height: 1.5rem\;">&nbsp\;</p>\n
LOCATION:Online
UID:e.3433.5268
SEQUENCE:3
DTSTAMP:20260421T105252Z
URL:https://business.growabilene.com/events/details/ctan-2024-funding-cycle-3-information-session-5268
END:VEVENT

END:VCALENDAR
