BEGIN:VCALENDAR
VERSION:2.0
PRODID:-//ChamberMaster//Event Calendar 2.0//EN
METHOD:PUBLISH
X-PUBLISHED-TTL:P3D
REFRESH-INTERVAL:P3D
CALSCALE:GREGORIAN
BEGIN:VEVENT
DTSTART:20240509T223000Z
DTEND:20240509T233000Z
X-MICROSOFT-CDO-ALLDAYEVENT:FALSE
SUMMARY:Business Success Series: Now Hiring Employee vs Independent Contractor
DESCRIPTION:The distinction between an independent contractor and an employee is not always easy to determine. However\, the risks are high if you misclassify your workers. Your business may be subject to audit by the Internal Revenue Service\, state tax agencies\, the Department of Labor\, as well as state labor agencies\, and misclassifying a worker could result in litigation\, penalties\, and back pay that can have a catastrophic impact on your business. This presentation will address the differences in the classifications between independent contractors and employees and will help employers determine how to classify workers when looking to hire help. \n\n\n\nThis seminar is put on in partnership with the Abilene Regional Growth Alliance\, America's SBDC at Texas Tech\, McMahon Surovik Suttle\, P.C. and the Development Corporation of Abilene.
X-ALT-DESC;FMTTYPE=text/html:<div class="xdj266r x11i5rnm xat24cr x1mh8g0r x1vvkbs x126k92a" style="margin: 0px\; overflow-wrap: break-word\; white-space-collapse: preserve\; font-family: &quot\;Segoe UI Historic&quot\;\, &quot\;Segoe UI&quot\;\, Helvetica\, Arial\, sans-serif\; color: rgb(5\, 5\, 5)\; font-size: 15px\;">\n<div dir="auto" style="font-family: inherit\;">The distinction between an independent contractor and an employee is not always easy to determine. However\, the risks are high if you misclassify your workers. Your business may be subject to audit by the Internal Revenue Service\, state tax agencies\, the Department of Labor\, as well as state labor agencies\, and misclassifying a worker could result in litigation\, penalties\, and back pay that can have a catastrophic impact on your business. This presentation will address the differences in the classifications between independent contractors and employees and will help employers determine how to classify workers when looking to hire help.&nbsp\;<br />\n<br />\n<span style="font-size:12px\;">This seminar is put on in partnership with the Abilene Regional Growth Alliance\, America&#39\;s SBDC at Texas Tech\, McMahon Surovik Suttle\, P.C. and the Development Corporation of Abilene. </span></div>\n</div>\n
LOCATION:In Person: America's SBDC at Texas Tech 749 Gateway St 301 Building C\, Abilene\, TX 79602 Virtual is an option. Please email Cindy Gonzales here.
UID:e.3433.5269
SEQUENCE:3
DTSTAMP:20260421T111002Z
URL:https://business.growabilene.com/events/details/business-success-series-now-hiring-employee-vs-independent-contractor-5269
END:VEVENT

END:VCALENDAR
