BEGIN:VCALENDAR
VERSION:2.0
PRODID:-//ChamberMaster//Event Calendar 2.0//EN
METHOD:PUBLISH
X-PUBLISHED-TTL:P3D
REFRESH-INTERVAL:P3D
CALSCALE:GREGORIAN
BEGIN:VEVENT
DTSTART:20231106T173000Z
DTEND:20231106T183000Z
X-MICROSOFT-CDO-ALLDAYEVENT:FALSE
SUMMARY:Business Navigator: What goes into a loan Package?
DESCRIPTION:Tori Flores\, VP of commercial lending at First Finacial Bank\, will delve into the question: What goes into a Loan package?
X-ALT-DESC;FMTTYPE=text/html:Tori Flores\, VP of commercial lending at First Finacial Bank\, will delve into the question: What goes into a Loan package?
LOCATION:The Domain: 3274 S 27th St\, Abilene\, TX 79605
UID:e.3433.5121
SEQUENCE:3
DTSTAMP:20260421T194435Z
URL:https://business.growabilene.com/events/details/business-navigator-what-goes-into-a-loan-package-5121
END:VEVENT

END:VCALENDAR
