BEGIN:VCALENDAR
VERSION:2.0
PRODID:-//ChamberMaster//Event Calendar 2.0//EN
METHOD:PUBLISH
X-PUBLISHED-TTL:P3D
REFRESH-INTERVAL:P3D
CALSCALE:GREGORIAN
BEGIN:VEVENT
DTSTART:20230413T230000Z
DTEND:20230414T000000Z
X-MICROSOFT-CDO-ALLDAYEVENT:FALSE
SUMMARY:Business Navigator: Networking for Success
DESCRIPTION:Andre Gwinn Sr. will be presenting NETWORKING FOR SUCCESS training on April 13\, 2023 from 6:00 PM to 7:00 PM
X-ALT-DESC;FMTTYPE=text/html:Andre Gwinn Sr. will be presenting <strong><em>NETWORKING FOR SUCCESS</em></strong> training on April 13\, 2023 from 6:00 PM to 7:00 PM&nbsp\;<br />\n<br />\n&nbsp\;
LOCATION:Career Center at GoodWill located at 2200 North 1st St.
UID:e.3433.4939
SEQUENCE:3
DTSTAMP:20260422T154619Z
URL:https://business.growabilene.com/events/details/business-navigator-networking-for-success-4939
END:VEVENT

END:VCALENDAR
