BEGIN:VCALENDAR
VERSION:2.0
PRODID:-//ChamberMaster//Event Calendar 2.0//EN
METHOD:PUBLISH
X-PUBLISHED-TTL:P3D
REFRESH-INTERVAL:P3D
CALSCALE:GREGORIAN
BEGIN:VEVENT
DTSTART:20231111T150000Z
DTEND:20231111T180000Z
X-MICROSOFT-CDO-ALLDAYEVENT:FALSE
SUMMARY:Business Navigator: Microsoft Excel - Basic & Advanced Skills
DESCRIPTION:This course is intended to help you understand the power of Microsoft Excel and become more proficient. No Matter your level of experience\, this class will enable you to take advantage of the many uses of Excel. We will work together to elevate your current skillset. Basic Skills include being able to add and subtract numbers in different cells\, change cell styles\, and insert graphs. Advanced Excel skills include using functions and formulas\, creating pivot tables\, and knowing how to make your own conditional formatting rules.
X-ALT-DESC;FMTTYPE=text/html:This course is intended to help you understand the power of Microsoft Excel and become more proficient. No Matter your level of experience\, this class will enable you to take advantage of the many uses of Excel. We will work together to elevate your current skillset. Basic Skills include being able to add and subtract numbers in different cells\, change cell styles\, and insert graphs. Advanced Excel skills include using functions and formulas\, creating pivot tables\, and knowing how to make your own conditional formatting rules.
LOCATION:Room 157 of the Cisco College Abilene Campus. 717 E. Industrial Blvd Abilene\, TX 79602
UID:e.3433.5136
SEQUENCE:3
DTSTAMP:20260421T194135Z
URL:https://business.growabilene.com/events/details/business-navigator-microsoft-excel-basic-advanced-skills-5136
END:VEVENT

END:VCALENDAR
