BEGIN:VCALENDAR
VERSION:2.0
PRODID:-//ChamberMaster//Event Calendar 2.0//EN
METHOD:PUBLISH
X-PUBLISHED-TTL:P3D
REFRESH-INTERVAL:P3D
CALSCALE:GREGORIAN
BEGIN:VEVENT
DTSTART:20230125T170000Z
DTEND:20230125T180000Z
X-MICROSOFT-CDO-ALLDAYEVENT:FALSE
SUMMARY:Business Navigator: Mentoring Session feat. Keith White 01.25.23
DESCRIPTION:Mentoring can help entrepreneurs build relationships\, broaden skills and gain perspectives. Finding a mentor can be challenging. Through the Abilene Chamber's West Texas Business Navigator Program\, a new way to connect is through group mentoring. Spend one hour each month learning from a local subject matter expert about different facets of entrepreneurship.\n\n\n\nThis month's speaker is Keith White\, owner & CEO of Datroo Technologies.  Since 2004\, Datroo has worked with businesses in the area of information technology to provide solutions that are cost effective and make your company more efficient and profitable.\n\n\n\nCome hear from Keith about his entrepreneurial journey and bring all your questions for him!
X-ALT-DESC;FMTTYPE=text/html:Mentoring can help entrepreneurs build relationships\, broaden skills and gain perspectives. Finding a mentor can be challenging. Through the Abilene Chamber&#39\;s West Texas Business Navigator Program\, a new way to connect is through group mentoring. Spend one hour each month learning from a local subject matter expert about different facets of entrepreneurship.<br />\n<br />\nThis month&#39\;s speaker is Keith White\, owner &amp\; CEO of Datroo Technologies.&nbsp\; Since 2004\, Datroo has worked with businesses in the area of information technology to provide solutions that are cost effective and make your company more efficient and profitable.<br />\n<br />\nCome hear from Keith about his entrepreneurial journey and bring all your questions for him!
LOCATION:The Domain Abilene 3274 South 27th Street Abilene\, TX 79605
UID:e.3433.4856
SEQUENCE:3
DTSTAMP:20260422T212350Z
URL:https://business.growabilene.com/events/details/business-navigator-mentoring-session-feat-keith-white-01-25-23-4856
END:VEVENT

END:VCALENDAR
