BEGIN:VCALENDAR
VERSION:2.0
PRODID:-//ChamberMaster//Event Calendar 2.0//EN
METHOD:PUBLISH
X-PUBLISHED-TTL:P3D
REFRESH-INTERVAL:P3D
CALSCALE:GREGORIAN
BEGIN:VEVENT
DTSTART:20230426T170000Z
DTEND:20230426T180000Z
X-MICROSOFT-CDO-ALLDAYEVENT:FALSE
SUMMARY:Business Navigator: Mentoring Session
DESCRIPTION:Mentoring can help entrepreneurs build relationships\, broaden skills and gain perspectives. Finding a mentor can be challenging. Through the Abilene Chamber's West Texas Business Navigator Program\, a new way to connect is through group mentoring. Spend one hour each month learning from a local subject matter expert about different facets of entrepreneurship. This opportunity is led by Dr. Doug McIntyre\, Professor of Business Administration at Hardin Simmons University.  \n\n\n\nThis month's speaker will be Dr. Jodi Hierholzer\, PT. She owns Body Worx Physical Therapy.\n\n\n\nFunded (in part) through a grant with the U.S. Small Business Administration. All opinions\, conclusions\, and/or recommendations expressed herein are those of the author(s) and do not necessarily reflect the views of the SBA.
X-ALT-DESC;FMTTYPE=text/html:<span style="font-size:14px\;"><span style="font-family:arial\;">Mentoring can help entrepreneurs build relationships\, broaden skills and gain perspectives. Finding a mentor can be challenging. Through the Abilene Chamber&#39\;s West Texas Business Navigator Program\, a new way to connect is through group mentoring. Spend one hour each month learning from a local subject matter expert about different facets of entrepreneurship. This opportunity is led by Dr. Doug McIntyre\, Professor of Business Administration at Hardin Simmons University.&nbsp\;&nbsp\;</span></span><br />\n<br />\n<span style="font-family:calibri\,sans-serif\;"><span style="font-size:11.0pt\;">This month&#39\;s speaker will be Dr. Jodi Hierholzer\, PT. She owns Body Worx Physical Therapy.</span></span><br />\n<br />\n<strong>Funded (in part) through a grant with the U.S. Small Business Administration. All opinions\, conclusions\, and/or recommendations expressed herein are those of the author(s) and do not necessarily reflect the views of the SBA.</strong><br />\n&nbsp\;
LOCATION:The Domain Abilene 3274 South 27th Street Abilene\, TX 79605
UID:e.3433.4949
SEQUENCE:3
DTSTAMP:20260422T155659Z
URL:https://business.growabilene.com/events/details/business-navigator-mentoring-session-04-26-2023-4949
END:VEVENT

END:VCALENDAR
