BEGIN:VCALENDAR
VERSION:2.0
PRODID:-//ChamberMaster//Event Calendar 2.0//EN
METHOD:PUBLISH
X-PUBLISHED-TTL:P3D
REFRESH-INTERVAL:P3D
CALSCALE:GREGORIAN
BEGIN:VEVENT
DTSTART:20231114T000000Z
DTEND:20231114T020000Z
X-MICROSOFT-CDO-ALLDAYEVENT:FALSE
SUMMARY:Business Navigator: Introduction to the Americans with Disabilities Act - 1990- Understanding the ADA: Empowering Inclusion and Equality
DESCRIPTION:Understanding the ADA is essential for both employers and employees. Employers can ensure they provide reasonable accommodations for employees with disabilities\, opening up employment opportunities. Employees can also better advocate for their rights in the workplace. Students will learn why the ADA is important\, the primary purpose of the ADA\, how to recognize the need for ADA accommodations\, and implementation of strategy for compliance. This class will empower you to promote inclusivity and equality and learn about the importance of creating accessible environments.
X-ALT-DESC;FMTTYPE=text/html:Understanding the ADA is essential for both employers and employees. Employers can ensure they provide reasonable accommodations for employees with disabilities\, opening up employment opportunities. Employees can also better advocate for their rights in the workplace. Students will learn why the ADA is important\, the primary purpose of the ADA\, how to recognize the need for ADA accommodations\, and implementation of strategy for compliance. This class will empower you to promote inclusivity and equality and learn about the importance of creating accessible environments.
LOCATION:Online - Zoom
UID:e.3433.5138
SEQUENCE:3
DTSTAMP:20260421T194656Z
URL:https://business.growabilene.com/events/details/business-navigator-introduction-to-the-americans-with-disabilities-act-1990-understanding-the-ada-empowering-inclusion-and-equality-5138
END:VEVENT

END:VCALENDAR
