BEGIN:VCALENDAR
VERSION:2.0
PRODID:-//ChamberMaster//Event Calendar 2.0//EN
METHOD:PUBLISH
X-PUBLISHED-TTL:P3D
REFRESH-INTERVAL:P3D
CALSCALE:GREGORIAN
BEGIN:VEVENT
DTSTART:20231128T000000Z
DTEND:20231128T013000Z
X-MICROSOFT-CDO-ALLDAYEVENT:FALSE
SUMMARY:Business Navigator: Introduction to LinkedIn
DESCRIPTION:LinkedIn is the world's largest professional network on the internet. You can use LinkedIn to connect and strengthen professional relationships\, follow interesting people and/or companies\, and learn the skills you need to succeed in your career. Students will learn basic skills including building a professional LinkedIn account\; make connections\; grow their networks\; search for relevant learning opportunities\, and more.
X-ALT-DESC;FMTTYPE=text/html:LinkedIn is the world&#39\;s largest professional network on the internet. You can use LinkedIn to connect and strengthen professional relationships\, follow interesting people and/or companies\, and learn the skills you need to succeed in your career. Students will learn basic skills including building a professional LinkedIn account\; make connections\; grow their networks\; search for relevant learning opportunities\, and more.
LOCATION:Online - Zoom
UID:e.3433.5139
SEQUENCE:3
DTSTAMP:20260421T194348Z
URL:https://business.growabilene.com/events/details/business-navigator-introduction-to-linkedin-5139
END:VEVENT

END:VCALENDAR
