BEGIN:VCALENDAR
VERSION:2.0
PRODID:-//ChamberMaster//Event Calendar 2.0//EN
METHOD:PUBLISH
X-PUBLISHED-TTL:P3D
REFRESH-INTERVAL:P3D
CALSCALE:GREGORIAN
BEGIN:VEVENT
DTSTART:20220714T190000Z
DTEND:20220714T200000Z
X-MICROSOFT-CDO-ALLDAYEVENT:FALSE
SUMMARY:Business Navigator: How to Fund Your Business Venture
DESCRIPTION:You have the idea now how do you fund your new business venture? Join the West Texas Business Navigator Program spoke\, Abilene Industrial Foundation\, as they bring together local banking experts so you can ask questions\, learn strategies\, and improve your general business financial knowledge. Register for FREE.\n\n\nSpeakers:\n\n    Adam Lancaster\, Coleman County State Bank\n\n    Casjen Rico\, First Financial Bank\n\n    David Smith\, Small Business Development Center\n    Sarah Halbert\, Happy State Bank
X-ALT-DESC;FMTTYPE=text/html:<span style="font-family: Arial\, Verdana\, Helvetica\, sans-serif\; font-size: 14px\; white-space: pre-wrap\; color: rgb(34\, 34\, 34)\;">You have the idea now how do you fund your new business venture? Join the West Texas Business Navigator Program spoke\, Abilene Industrial Foundation\, as they bring together local banking experts so you can ask questions\, learn strategies\, and improve your general business financial knowledge. </span><span style="color: rgb(0\, 0\, 0)\; font-family: Arial\, Verdana\, Helvetica\, sans-serif\; font-size: 14px\; white-space: pre-wrap\;">Register for FREE.</span>\n<div style="color: rgb(32\, 33\, 36)\; font-family: arial\; font-size: 14px\;"><br />\n<strong>Speakers:</strong></div>\n\n<p style="color: rgb(32\, 33\, 36)\; font-family: arial\; font-size: 14px\;">&nbsp\; &nbsp\; Adam Lancaster\, Coleman County State Bank</p>\n\n<p style="color: rgb(32\, 33\, 36)\; font-family: arial\; font-size: 14px\;">&nbsp\; &nbsp\; Casjen Rico\, First Financial Bank</p>\n\n<p style="color: rgb(32\, 33\, 36)\; font-family: arial\; font-size: 14px\;">&nbsp\; &nbsp\; David Smith\, Small Business Development Center</p>\n<span style="color: rgb(32\, 33\, 36)\; font-family: arial\; font-size: 14px\;">&nbsp\; &nbsp\; Sarah Halbert\, Happy State Bank</span>
LOCATION:America's SBDC at Texas Tech University - Abilene 749 Gateway St 301 Building C Abilene\, TX 79602
UID:e.3433.4705
SEQUENCE:3
DTSTAMP:20260423T060310Z
URL:https://business.growabilene.com/events/details/business-navigator-how-to-fund-your-business-venture-4705
END:VEVENT

END:VCALENDAR
