BEGIN:VCALENDAR
VERSION:2.0
PRODID:-//ChamberMaster//Event Calendar 2.0//EN
METHOD:PUBLISH
X-PUBLISHED-TTL:P3D
REFRESH-INTERVAL:P3D
CALSCALE:GREGORIAN
BEGIN:VEVENT
DTSTART;VALUE=DATE:20220701
DTEND;VALUE=DATE:20220801
TRANSP:TRANSPARENT
X-MICROSOFT-CDO-ALLDAYEVENT:TRUE
SUMMARY:Business Navigator: Cisco Course - Leadership & Management Styles
DESCRIPTION:Are you a small business owner or planning to start your own business? Are you looking sharpen your managment skills? Do you know your leadership style? This self-paced\, online course will set you a path to success
X-ALT-DESC;FMTTYPE=text/html:Are you a small business owner or planning to start your own business? Are you looking sharpen your managment skills? Do you know your leadership style? This self-paced\, online course will set you a path to success
LOCATION:Online
UID:e.3433.4715
SEQUENCE:3
DTSTAMP:20260423T060119Z
URL:https://business.growabilene.com/events/details/business-navigator-cisco-course-leadership-management-styles-4715
END:VEVENT

END:VCALENDAR
