BEGIN:VCALENDAR
VERSION:2.0
PRODID:-//ChamberMaster//Event Calendar 2.0//EN
METHOD:PUBLISH
X-PUBLISHED-TTL:P3D
REFRESH-INTERVAL:P3D
CALSCALE:GREGORIAN
BEGIN:VEVENT
DTSTART;VALUE=DATE:20230411
DTEND;VALUE=DATE:20230412
TRANSP:TRANSPARENT
X-MICROSOFT-CDO-ALLDAYEVENT:TRUE
SUMMARY:Business Navigator: Cisco Course - How to Build a Unique & Memorable Brand for your Business
DESCRIPTION:HOW TO DEVELOP A UNIQUE AND MEMORABLE BRAND FOR YOUR BUSINESS\n\n\n\nJoin local CEO and marketing expert\, Holly Blackwell in walking through the 3 most important aspects to marketing. Come learn how to position your business for success:\n\n	Create a Winning Brand for your Business\n	What You MUST Include to Define Your Brand\n	Create a Trustworthy Brand in the Community\n	How to Connect your Brand with Your Ideal Customer
X-ALT-DESC;FMTTYPE=text/html:HOW TO DEVELOP A UNIQUE AND MEMORABLE BRAND FOR YOUR BUSINESS<br />\n<br />\nJoin local CEO and marketing expert\, Holly Blackwell in walking through the 3 most important aspects to marketing. Come learn how to position your business for success:\n<ul>\n	<li>Create a Winning Brand for your Business</li>\n	<li>What You MUST Include to Define Your Brand</li>\n	<li>Create a Trustworthy Brand in the Community</li>\n	<li>How to Connect your Brand with Your Ideal Customer</li>\n</ul>\n
LOCATION:Online
UID:e.3433.4938
SEQUENCE:3
DTSTAMP:20260422T160032Z
URL:https://business.growabilene.com/events/details/business-navigator-cisco-course-how-to-build-a-unique-memorable-brand-for-your-business-4938
END:VEVENT

END:VCALENDAR
