BEGIN:VCALENDAR
VERSION:2.0
PRODID:-//ChamberMaster//Event Calendar 2.0//EN
METHOD:PUBLISH
X-PUBLISHED-TTL:P3D
REFRESH-INTERVAL:P3D
CALSCALE:GREGORIAN
BEGIN:VEVENT
DTSTART;VALUE=DATE:20220906
DTEND;VALUE=DATE:20221001
TRANSP:TRANSPARENT
X-MICROSOFT-CDO-ALLDAYEVENT:TRUE
SUMMARY:Business Navigator: Cisco Course - Financial Planning for Small Business
DESCRIPTION:At the end of this course\, students will gain an understanding of practical personal financial planning to apply to their career and future.  The topics learned during this course include:  The Basics of Financial Planning\, Investment Planning\, Retirement Savings and Income Planning\, Tax and Estate Planning\, Risk Management and Insurance Planning\, and Education Planning.
X-ALT-DESC;FMTTYPE=text/html:<span style="color:black\;"><span style="font-family:arial\,sans-serif\;">At the end of this&nbsp\;course\, students will gain an understanding of practical personal financial planning to apply to their career and future.&nbsp\; The topics learned&nbsp\;during this&nbsp\;course&nbsp\;include:&nbsp\; The Basics of Financial Planning\, Investment&nbsp\;Planning\, Retirement Savings and Income Planning\, Tax and Estate Planning\, Risk Management and Insurance Planning\, and Education Planning.</span></span>
LOCATION:Online
UID:e.3433.4793
SEQUENCE:3
DTSTAMP:20260423T030229Z
URL:https://business.growabilene.com/events/details/business-navigator-cisco-course-financial-planning-for-small-business-4793
END:VEVENT

END:VCALENDAR
