BEGIN:VCALENDAR
VERSION:2.0
PRODID:-//ChamberMaster//Event Calendar 2.0//EN
METHOD:PUBLISH
X-PUBLISHED-TTL:P3D
REFRESH-INTERVAL:P3D
CALSCALE:GREGORIAN
BEGIN:VEVENT
DTSTART:20191012T140000Z
DTEND:20191012T200000Z
X-MICROSOFT-CDO-ALLDAYEVENT:FALSE
SUMMARY:Business Mercado 2019 Fiesta Loteria - Be a Winner at Business Mercado!
DESCRIPTION:Hosted by the Abilene Hispanic Business Council\, Business Mercado (Market) is and annual showcase of business products and services with the intent of building the bridge with the Hispanic consumer. Open to all businesses interested in connecting with the Hispanic market\, this high energy\, family friendly event spotlights the Hispanic culture in Abilene with mariachis\, ballet folklorico and other family fun activities throughout the day. Business Mercado leverages branding and marketing opportunities\, while benefiting from business-to-business and business-to-consumer networking with more than 100 exhibitors and close to 2\,000 attendees.
X-ALT-DESC;FMTTYPE=text/html:Hosted by the Abilene Hispanic Business Council\, Business Mercado (Market) is and annual showcase of business products and services with the intent of building the bridge with the Hispanic consumer. Open to all businesses interested in connecting with the Hispanic market\, this high energy\, family friendly event spotlights the Hispanic culture in Abilene with mariachis\, ballet folklorico and other family fun activities throughout the day. Business Mercado leverages branding and marketing opportunities\, while benefiting from business-to-business and business-to-consumer networking with more than 100 exhibitors and close to 2\,000 attendees.
LOCATION:Abilene Convention Center
UID:e.3433.3711
SEQUENCE:3
DTSTAMP:20260423T183124Z
URL:https://business.growabilene.com/events/details/business-mercado-2019-fiesta-loteria-be-a-winner-at-business-mercado-3711
END:VEVENT

END:VCALENDAR
