BEGIN:VCALENDAR
VERSION:2.0
PRODID:-//ChamberMaster//Event Calendar 2.0//EN
METHOD:PUBLISH
X-PUBLISHED-TTL:P3D
REFRESH-INTERVAL:P3D
CALSCALE:GREGORIAN
BEGIN:VEVENT
DTSTART:20240302T230000Z
DTEND:20240303T040000Z
X-MICROSOFT-CDO-ALLDAYEVENT:FALSE
SUMMARY:Beyond Trafficking 4th Annual Gala: A Blue Tie Affair
DESCRIPTION:Join us for the 4th Annual Beyond Trafficking Gala - "It's A Blue Tie Affair"! Beyond Trafficking\, a non-profit organization dedicated to assisting human trafficking survivors\, is excited to announce our 2024 Gala. This year's event\, themed "It's A Blue Tie Affair"\, will take place on March 2 at 5:30 pm at the Taylor County Expo Center in Abilene\, Texas. At this special occasion\, we will come together to support the mission and vision of Beyond Trafficking as we work towards building a house for survivors in Abilene. Through our efforts\, we hope to provide a safe and secure space for these individuals to heal and rebuild their lives. But that's not all - we have an amazing lineup of special guests joining us for the evening. We are honored to welcome Jaco Booyens\, founder of After Eden Pictures and a leading advocate in the fight against human trafficking. He will be joined by the Booth Family\, who will share their inspirational story and journey toward healing after being impacted by trafficking. In addition\, we are thrilled to have a special guest speaker who will share their insights and experiences in the fight against human trafficking. And\, to top it off\, we'll be treated to performances from world-renowned worship artist Vanessa Horabuena and the Caleb Sutton Band. This gala is more than just a fundraising event - it's a chance for us to come together as a community and show our determination and commitment to ending human trafficking. So join us for a night of inspiration\, hope\, and support as we work towards creating a better future for survivors. Don't miss out on this incredible evening - get your blue tie ready and mark your calendars for March 2! See you at the gala!
X-ALT-DESC;FMTTYPE=text/html:Join us for the 4th Annual Beyond Trafficking Gala - &quot\;It&#39\;s A Blue Tie Affair&quot\;! Beyond Trafficking\, a non-profit organization dedicated to assisting human trafficking survivors\, is excited to announce our 2024 Gala. This year&#39\;s event\, themed &quot\;It&#39\;s A Blue Tie Affair&quot\;\, will take place on March 2 at 5:30 pm at the Taylor County Expo Center in Abilene\, Texas. At this special occasion\, we will come together to support the mission and vision of Beyond Trafficking as we work towards building a house for survivors in Abilene. Through our efforts\, we hope to provide a safe and secure space for these individuals to heal and rebuild their lives. But that&#39\;s not all - we have an amazing lineup of special guests joining us for the evening. We are honored to welcome Jaco Booyens\, founder of After Eden Pictures and a leading advocate in the fight against human trafficking. He will be joined by the Booth Family\, who will share their inspirational story and journey toward healing after being impacted by trafficking. In addition\, we are thrilled to have a special guest speaker who will share their insights and experiences in the fight against human trafficking. And\, to top it off\, we&#39\;ll be treated to performances from world-renowned worship artist Vanessa Horabuena and the Caleb Sutton Band. This gala is more than just a fundraising event - it&#39\;s a chance for us to come together as a community and show our determination and commitment to ending human trafficking. So join us for a night of inspiration\, hope\, and support as we work towards creating a better future for survivors. Don&#39\;t miss out on this incredible evening - get your blue tie ready and mark your calendars for March 2! See you at the gala!
LOCATION:Taylor County Coliseum
UID:e.3433.5192
SEQUENCE:3
DTSTAMP:20260421T125659Z
URL:https://business.growabilene.com/events/details/beyond-trafficking-4th-annual-gala-a-blue-tie-affair-5192
END:VEVENT

END:VCALENDAR
