BEGIN:VCALENDAR
VERSION:2.0
PRODID:-//ChamberMaster//Event Calendar 2.0//EN
METHOD:PUBLISH
X-PUBLISHED-TTL:P3D
REFRESH-INTERVAL:P3D
CALSCALE:GREGORIAN
BEGIN:VEVENT
DTSTART:20190619T170000Z
DTEND:20190619T183000Z
X-MICROSOFT-CDO-ALLDAYEVENT:FALSE
SUMMARY:Best Practices in Adaptive Reuse: Envisioning New Uses for Old Buildings
DESCRIPTION:Matching the right building with the right business concept is the best way of achieving "highest and best use" of real estate. Learn what factors innovative developers consider in making the connection between property and use.\n\n\n\n$10 per event and includes a box lunch\n\n\n\nFeaturing David Wanzer\n\n\n\nDavid Wanzer: David Wanzer is an Oklahoma City developer and designer with a passion for modern architecture\, adaptive re-use and community building. He holds bachelor's degrees in both finance and environmental design\, as well as a Master of Architecture degree.\n\nCommunity building is at the heart of Wanzer's work. His research into a long-forgotten stretch of Sheridan Avenue in downtown Oklahoma City uncovered the rich history of a district that was once a central hub for Hollywood movie distribution in the U.S. This research\, along with Wanzer's design firm\, helped developer Chip Fudge spearhead the revitalization of the city's now thriving Film Row District.
X-ALT-DESC;FMTTYPE=text/html:<span style="font-size:14px\;"><span style="font-family:arial\;"><em>Matching the right building with the right business concept is the best way of achieving &ldquo\;highest and best use&rdquo\; of real estate. Learn what factors innovative developers consider in making the connection between property and use.</em></span></span><br />\n<br />\n$10 per event and includes a box lunch<br />\n<br />\nFeaturing David Wanzer<br />\n<br />\n<span style="font-size:14px\;"><span style="font-family:arial\;"><strong>David Wanzer:</strong>&nbsp\;David Wanzer is an Oklahoma City developer and designer with a passion for modern architecture\, adaptive re-use and community building. He holds bachelor&rsquo\;s degrees in both finance and environmental design\, as well as a Master of Architecture degree.<br />\nCommunity building is at the heart of Wanzer&rsquo\;s work. His research into a long-forgotten stretch of Sheridan Avenue in downtown Oklahoma City uncovered the rich history of a district that was once a central hub for Hollywood movie distribution in the U.S. This research\, along with Wanzer&rsquo\;s design firm\, helped developer Chip Fudge spearhead the revitalization of the city&rsquo\;s now thriving Film Row District.</span></span>
LOCATION:850 N 1ST ST COMMUNITY FOUNDATION
UID:e.3433.3720
SEQUENCE:3
DTSTAMP:20260426T024619Z
URL:https://business.growabilene.com/events/details/best-practices-in-adaptive-reuse-envisioning-new-uses-for-old-buildings-3720
END:VEVENT

END:VCALENDAR
