BEGIN:VCALENDAR
VERSION:2.0
PRODID:-//ChamberMaster//Event Calendar 2.0//EN
METHOD:PUBLISH
X-PUBLISHED-TTL:P3D
REFRESH-INTERVAL:P3D
CALSCALE:GREGORIAN
BEGIN:VEVENT
DTSTART:20240220T233000Z
DTEND:20240221T003000Z
X-MICROSOFT-CDO-ALLDAYEVENT:FALSE
SUMMARY:Basic Business Financial Literacy
DESCRIPTION:Acquire the skills to enhance financial efficiency with a comprehensive exploration of income statements and balance sheets. Delve into the structural disparities between sole proprietorships and LLCs\, gaining insights that empower you to use financial data effectively. Learn to assess the consequences of your actions and make well-informed decisions by tracking their financial impact. This overview provides practical knowledge to leverage financial information for strategic decision-making.
X-ALT-DESC;FMTTYPE=text/html:Acquire the skills to enhance financial efficiency with a comprehensive exploration of income statements and balance sheets. Delve into the structural disparities between sole proprietorships and LLCs\, gaining insights that empower you to use financial data effectively. Learn to assess the consequences of your actions and make well-informed decisions by tracking their financial impact. This overview provides practical knowledge to leverage financial information for strategic decision-making.
LOCATION:America's SBDC at Texas Tech 749 Gateway St.\, Ste. 301\, Blg. C Abilene\, TX 79602
UID:e.3433.5225
SEQUENCE:3
DTSTAMP:20260421T162815Z
URL:https://business.growabilene.com/events/details/basic-business-financial-literacy-02-20-2024-5225
END:VEVENT

END:VCALENDAR
