BEGIN:VCALENDAR
VERSION:2.0
PRODID:-//ChamberMaster//Event Calendar 2.0//EN
METHOD:PUBLISH
X-PUBLISHED-TTL:P3D
REFRESH-INTERVAL:P3D
CALSCALE:GREGORIAN
BEGIN:VEVENT
DTSTART:20250330T000000Z
DTEND:20250330T030000Z
X-MICROSOFT-CDO-ALLDAYEVENT:FALSE
SUMMARY:All Kind Animal Initiative's Speakeasy
DESCRIPTION:Step back into the Roaring 20s and join us this March for an exclusive Speakeasy event\, where the gin will be cold\, and the jazz will be hot! \n\n\n\nDon your finest flapper dresses\, feather boas\, and fedoras for a night of glitz\, glamour\, and good old-fashioned fun. This swanky soiree isn't just the bee's knees - it's for a cause close to our hearts. \n\n\n\nAll proceeds will go directly to supporting our animals\, so you can dance the night away knowing you're making a difference. \n\n \n\nStay tuned\, darlings\, for more details on this unforgettable night. Write us in your calendar and get ready to shimmy your way to a pawsitively fabulous evening!
X-ALT-DESC;FMTTYPE=text/html:<p>Step back into the Roaring 20s and join us this March for an exclusive Speakeasy event\, where the gin will be cold\, and the jazz will be hot!&nbsp\;<br />\n<br />\nDon your finest flapper dresses\, feather boas\, and fedoras for a night of glitz\, glamour\, and good old-fashioned fun. This swanky soiree isn&#39\;t just the bee&#39\;s knees - it&#39\;s for a cause close to our hearts.&nbsp\;<br />\n<br />\nAll proceeds will go directly to supporting our animals\, so you can dance the night away knowing you&#39\;re making a difference.&nbsp\;<br />\n&nbsp\;</p>\n\n<p>Stay tuned\, darlings\, for more details on this unforgettable night. Write us in your calendar and get ready to shimmy your way to a pawsitively fabulous evening!&nbsp\;</p>\n
LOCATION:389 Venue 389 Walnut Street\, Abilene TX 79601
UID:e.3433.5583
SEQUENCE:3
DTSTAMP:20260421T213031Z
URL:https://business.growabilene.com/events/details/all-kind-animal-initiative-s-speakeasy-5583
END:VEVENT

END:VCALENDAR
