BEGIN:VCALENDAR
VERSION:2.0
PRODID:-//ChamberMaster//Event Calendar 2.0//EN
METHOD:PUBLISH
X-PUBLISHED-TTL:P3D
REFRESH-INTERVAL:P3D
CALSCALE:GREGORIAN
BEGIN:VEVENT
DTSTART:20240604T003000Z
DTEND:20240604T013000Z
X-MICROSOFT-CDO-ALLDAYEVENT:FALSE
SUMMARY:Abilene Music Teachers Association SHOWCASE CONCERT
DESCRIPTION:Great music for a great cause. The largest fundraiser for an organization that provides foster care and emergency shelter for children takes place at the 32nd annual Abilene Music Teachers Association Showcase Concert benefiting Harmony Family Services\, Inc. On June 3 at 7:30pm at First Baptist Church Abilene\, students and teachers from Abilene and the surrounding area will perform ensembles and solos on 8 pianos on stage. Six pianos provided by Lubbock Piano Gallery are for sale\, and this is a terrific opportunity to get a good piano at a great price! This family event is for all ages and has delightful variety. It is open to the public and free of charge! Come enjoy talented musicians\, fun costumes\, terrific music and support Harmony Family Services\, Inc.
X-ALT-DESC;FMTTYPE=text/html:Great music for a great cause. The largest fundraiser for an organization that provides foster care and emergency shelter for children takes place at the 32nd annual Abilene Music Teachers Association Showcase Concert benefiting Harmony Family Services\, Inc. On June 3 at 7:30pm at First Baptist Church Abilene\, students and teachers from Abilene and the surrounding area will perform ensembles and solos on 8 pianos on stage. Six pianos provided by Lubbock Piano Gallery are for sale\, and this is a terrific opportunity to get a good piano at a great price! This family event is for all ages and has delightful variety. It is open to the public and free of charge! Come enjoy talented musicians\, fun costumes\, terrific music and support Harmony Family Services\, Inc.
LOCATION:First Baptist Church\, Abilene
UID:e.3433.5308
SEQUENCE:3
DTSTAMP:20260421T074450Z
URL:https://business.growabilene.com/events/details/abilene-music-teachers-association-showcase-concert-5308
END:VEVENT

END:VCALENDAR
