BEGIN:VCALENDAR
VERSION:2.0
PRODID:-//ChamberMaster//Event Calendar 2.0//EN
METHOD:PUBLISH
X-PUBLISHED-TTL:P3D
REFRESH-INTERVAL:P3D
CALSCALE:GREGORIAN
BEGIN:VEVENT
DTSTART:20240604T223000Z
DTEND:20240604T233000Z
X-MICROSOFT-CDO-ALLDAYEVENT:FALSE
SUMMARY:Abilene Center Stage After Hours
DESCRIPTION:Join us for an evening of networking and celebration of our vibrant local music scene! This event is tailored for musicians\, venues\, and all music enthusiasts. We're kicking things off with a happy hour\, followed by a night of music and engaging conversations. Connect with like-minded individuals\, discover the incredible talent in our city\, and enjoy a welcoming atmosphere that brings everyone together. It's a fantastic opportunity to explore various involvement options. Our fourth Abilene Center Stage After Hours with Garret Bryan is proudly sponsored by Betty Rose's. Don't miss out on this chance to mingle\, make connections\, and indulge in a spread of delicious light appetizers. We've got giveaways for attendees\, making it the perfect place for networking or discovering your next featured musician. See you there!\n\n\n\nFor more information\, go to https://www.abilenevisitors.com/events/center-stage-after-hours or call the Abilene Convention & Visitors Bureau at 325-676-2556.
X-ALT-DESC;FMTTYPE=text/html:<span style="font-size:14px\;"><span style="font-family:arial\;">Join us for an evening of networking and celebration of our vibrant local music scene! This event is tailored for musicians\, venues\, and all music enthusiasts. We&#39\;re kicking things off with a happy hour\, followed by a night of music and engaging conversations. Connect with like-minded individuals\, discover the incredible talent in our city\, and enjoy a welcoming atmosphere that brings everyone together. It&#39\;s a fantastic opportunity to explore various involvement options. Our fourth Abilene Center Stage After Hours with Garret Bryan is proudly sponsored by Betty Rose&#39\;s. Don&#39\;t miss out on this chance to mingle\, make connections\, and indulge in a spread of delicious light appetizers. We&#39\;ve got giveaways for attendees\, making it the perfect place for networking or discovering your next featured musician. See you there!<br />\n<br />\nFor more information\, go to&nbsp\;<a href="https://www.abilenevisitors.com/events/center-stage-after-hours">https://www.abilenevisitors.com/events/center-stage-after-hours</a>&nbsp\;or call the Abilene Convention &amp\; Visitors Bureau at 325-676-2556.</span></span>
LOCATION:Betty Rose's - South 3934 Catclaw Drive Abilene\, TX 79606
UID:e.3433.5275
SEQUENCE:3
DTSTAMP:20260421T074031Z
URL:https://business.growabilene.com/events/details/abilene-center-stage-after-hours-5275
END:VEVENT

END:VCALENDAR
