BEGIN:VCALENDAR
VERSION:2.0
PRODID:-//ChamberMaster//Event Calendar 2.0//EN
METHOD:PUBLISH
X-PUBLISHED-TTL:P3D
REFRESH-INTERVAL:P3D
CALSCALE:GREGORIAN
BEGIN:VEVENT
DTSTART:20240621T140000Z
DTEND:20240621T150000Z
X-MICROSOFT-CDO-ALLDAYEVENT:FALSE
SUMMARY:85th Anniversary Hendrick Home for Children
DESCRIPTION:Join us as we celebrate the 85th Anniversary of Hendrick Home for Children!
X-ALT-DESC;FMTTYPE=text/html:Join us as we celebrate the 85th Anniversary of Hendrick Home for Children!
LOCATION:2758 Jeanette Street Abilene\, Texas 79602
UID:e.3433.5323
SEQUENCE:3
DTSTAMP:20260421T092950Z
URL:https://business.growabilene.com/events/details/85th-anniversary-hendrick-home-for-children-5323
END:VEVENT

END:VCALENDAR
