BEGIN:VCALENDAR
VERSION:2.0
PRODID:-//ChamberMaster//Event Calendar 2.0//EN
METHOD:PUBLISH
X-PUBLISHED-TTL:P3D
REFRESH-INTERVAL:P3D
CALSCALE:GREGORIAN
BEGIN:VEVENT
DTSTART:20210603T160000Z
DTEND:20210603T230000Z
X-MICROSOFT-CDO-ALLDAYEVENT:FALSE
SUMMARY:6.3.21 West Texas Young Professionals Leadership Summit
DESCRIPTION:We are pleased to announce the theme for our third West Texas Young Professional Leadership Summit as Uncharted.\n\n\n\nSponsored by Lawrence Hall   Abilene\, Summit will offer a myriad of opportunities for professionals to further explore their unique talents\, tackle the topic of mental health\, learn to lead with an unbiased lens\, and so much more!\n\n\n\nFrom our headline speaker\, Marcedes Fuller\, to the many breakout sessions mentioned above\, the entire day is designed to empower young leaders to think outside of the box while evaluating themselves from the inside and out. In an effort to equip young professionals with the tools and resources to be an asset in their organization\, participants will have the opportunity to hear from panelists/speakers with diverse life experiences and perspectives.\n\n"AYP Leadership Summit is a conference designed to catalyze personal and professional develop and to assist those interested in growing and empowering a strong Abilene community. This event will not only help expand your professional network\, but\, you'll walk away leading with a purpose\, and adding value to your organization and to your career." - Samantha Baker\, First Financial Bank\n\nSafety Protocols \n\nHere at the Abilene Chamber\, we're committed to creating and providing an environment where you feel comfortable\, but also have the freedom to do business. Here are a few guidelines we'll be following:\n\n- To protect your health and the health of others\, masks will be strongly encouraged and will be on-hand for those who do not have one. \n\n- We'll have multiple hand sanitizing stations throughout the facility as well as signage encouraging one way traffic at our larger events.\n\n- Unsure of if the person you're wanting to visit with is physically distancing? We'll have colored bracelets on-hand to help you communicate to those around you which measures you are practicing. A red will mean no contact\, yellow elbows only while still being cautious\, blue hi-five and handshakes with frequent sanitizing.\n\n \n\nIt is our hope that with these principles\, our partners will be able to resume networking while creating a safe space for yourself and those around you.
X-ALT-DESC;FMTTYPE=text/html:<p class="font_8" style="font-size: 19px\; line-height: 1.6em\;">We are pleased to announce the theme for our third West Texas Young Professional Leadership Summit as Uncharted.<br />\n<br />\nSponsored by Lawrence Hall &ndash\; Abilene\, Summit will offer a myriad of opportunities for professionals to further explore their unique talents\, tackle the topic of mental health\, learn to lead with an unbiased lens\, and so much more!<br />\n<br />\nFrom our headline speaker\, Marcedes Fuller\, to the many breakout sessions mentioned above\, the entire day is designed to empower young leaders to think outside of the box while evaluating themselves from the inside and out. In an effort to equip young professionals with the tools and resources to be an asset in their organization\, participants will have the opportunity to hear from panelists/speakers with diverse life experiences and perspectives.</p>\n\n<p class="font_8" style="font-size: 19px\; line-height: 1.6em\; text-align: center\;"><span style="font-size:12px\;"><em><span style="color: rgb(27\, 27\, 30)\; font-family: raleway\, sans-serif\; text-align: center\;">&quot\;AYP Leadership Summit is a conference designed to catalyze personal and professional develop and to assist those interested in growing and empowering a strong Abilene community. This event will not only help expand your professional network\, but\, you&rsquo\;ll walk away leading with a purpose\, and adding value to your organization and to your career.&quot\; - Samantha Baker\, First Financial Bank</span></em></span></p>\n\n<div class="font_8" style="font-size: 19px\; line-height: 1.6em\;"><span style="font-family:arial\;"><span style="font-size:10px\;"><strong><span style="color:#1C1E21\;">Safety Protocols </span></strong><br />\n<span style="color:#1C1E21\;">Here at the Abilene Chamber\, we&rsquo\;re committed to creating and providing an environment where you feel comfortable\, but also have the freedom to do business. Here are a few guidelines we&rsquo\;ll be following:</span><br />\n<span style="color:#1C1E21\;">- To protect your health and the health of others\, masks will be strongly encouraged and will be on-hand for those who do not have one. </span><br />\n<span style="color:#1C1E21\;">- We&rsquo\;ll have multiple hand sanitizing stations throughout the facility as well as signage encouraging one way traffic at our larger events.</span><br />\n<span style="color:#1C1E21\;">- Unsure of if the person you&rsquo\;re wanting to visit with is physically distancing? We&rsquo\;ll have colored bracelets on-hand to help you communicate to those around you which measures you are practicing. A red will mean no contact\, yellow elbows only while still being cautious\, blue hi-five and handshakes with frequent sanitizing.</span><br />\n&nbsp\;<br />\n<span style="color:#1C1E21\;">It is our hope that with these principles\, our partners will be able to resume networking while creating a safe space for yourself and those around you.</span></span></span><br />\n&nbsp\;</div>\n
LOCATION:Abilene Convention Center
UID:e.3433.4109
SEQUENCE:3
DTSTAMP:20260424T001856Z
URL:https://business.growabilene.com/events/details/6-3-21-west-texas-young-professionals-leadership-summit-4109
END:VEVENT

END:VCALENDAR
