BEGIN:VCALENDAR
VERSION:2.0
PRODID:-//ChamberMaster//Event Calendar 2.0//EN
METHOD:PUBLISH
X-PUBLISHED-TTL:P3D
REFRESH-INTERVAL:P3D
CALSCALE:GREGORIAN
BEGIN:VEVENT
DTSTART:20240510T130000Z
DTEND:20240510T140000Z
X-MICROSOFT-CDO-ALLDAYEVENT:FALSE
SUMMARY:5.10.24 The Morning Edge Sponsored by First Financial Bank
DESCRIPTION:Join the Chamber's Hispanic Business Council as we celebrate minority small businesses at the Small Business Celebration sponsored by First Financial Bank. This special edition of the Morning Edge will provide a unique networking opportunity and tools for growing your business while celebrating minority and Hispanic-owned small businesses and consumers in Abilene. Come hungry!\n\n\n\n\n\nPlease note: This event is being photographed and/or videotaped and your image may be used in connection with the advertising and promotion of the Abilene Chamber of Commerce.
X-ALT-DESC;FMTTYPE=text/html:J<span style="font-size:12px\;"><span style="font-family:arial\;">oin the Chamber&#39\;s Hispanic Business Council as we celebrate minority small businesses at the Small Business Celebration sponsored by&nbsp\;<a href="https://ffin.com/" style="font-family: arial\, sans-serif\; font-size: 13.3333px\;">First Financial Bank</a>. This special edition of the Morning Edge will provide a unique networking opportunity and tools for growing your business while celebrating minority and Hispanic-owned small businesses and consumers in Abilene. Come hung</span></span><span style="font-size:12px\;"><span style="font-family:arial\;">ry!</span></span><br />\n<br />\n<br />\n<span style="color:#333333\;"><span style="font-family:arial\,sans-serif\;"><span style="font-size:7.0pt\;">Please note: This event is being photographed and/or videotaped and your image may be used in connection with the advertising and promotion of the Abilene Chamber of Commerce.</span></span></span>
LOCATION:El Fenix Cafe 3241 S 1st Street Abilene\, TX 79605
UID:e.3433.5283
SEQUENCE:3
DTSTAMP:20260421T094046Z
URL:https://business.growabilene.com/events/details/5-10-24-the-morning-edge-sponsored-by-first-financial-bank-5283
END:VEVENT

END:VCALENDAR
