BEGIN:VCALENDAR
VERSION:2.0
PRODID:-//ChamberMaster//Event Calendar 2.0//EN
METHOD:PUBLISH
X-PUBLISHED-TTL:P3D
REFRESH-INTERVAL:P3D
CALSCALE:GREGORIAN
BEGIN:VEVENT
DTSTART:20240412T160000Z
DTEND:20240412T170000Z
X-MICROSOFT-CDO-ALLDAYEVENT:FALSE
SUMMARY:26th Anniversary - Stubblefield Insureance Agency\, LLC
DESCRIPTION:Join us as we celebrate 26 years of business with the team at Stubblefield Insurance Agency\, LLC.
X-ALT-DESC;FMTTYPE=text/html:Join us as we celebrate 26 years of business with the team at Stubblefield Insurance Agency\, LLC.
LOCATION:3300 S 14th Street\, Ste. 202 Abilene\, TX 79605
UID:e.3433.5281
SEQUENCE:3
DTSTAMP:20260421T103947Z
URL:https://business.growabilene.com/events/details/26th-anniversary-stubblefield-insureance-agency-llc-5281
END:VEVENT

END:VCALENDAR
