BEGIN:VCALENDAR
VERSION:2.0
PRODID:-//ChamberMaster//Event Calendar 2.0//EN
METHOD:PUBLISH
X-PUBLISHED-TTL:P3D
REFRESH-INTERVAL:P3D
CALSCALE:GREGORIAN
BEGIN:VEVENT
DTSTART:20240924T140000Z
DTEND:20240924T150000Z
X-MICROSOFT-CDO-ALLDAYEVENT:FALSE
SUMMARY:25th Anniversary & Grand Opening of Non-Profit Resource Center - Global Samaritan Resources
DESCRIPTION:Join us as we celebrate the 25th Anniversary of Global Samaritan Resources as well as the grand opening of their new Non-Profit Resource Center!
X-ALT-DESC;FMTTYPE=text/html:Join us as we celebrate the 25th Anniversary of Global Samaritan Resources as well as the grand opening of their new Non-Profit Resource Center!
LOCATION:2074 N 1st Street Abilene\, TX 79603
UID:e.3433.5390
SEQUENCE:3
DTSTAMP:20260421T104621Z
URL:https://business.growabilene.com/events/details/25th-anniversary-grand-opening-of-non-profit-resource-center-global-samaritan-resources-5390
END:VEVENT

END:VCALENDAR
