BEGIN:VCALENDAR
VERSION:2.0
PRODID:-//ChamberMaster//Event Calendar 2.0//EN
METHOD:PUBLISH
X-PUBLISHED-TTL:P3D
REFRESH-INTERVAL:P3D
CALSCALE:GREGORIAN
BEGIN:VEVENT
DTSTART:20240312T170000Z
DTEND:20240312T180000Z
X-MICROSOFT-CDO-ALLDAYEVENT:FALSE
SUMMARY:2024 Funding Cycle 2 Information Session
DESCRIPTION:Entrepreneurs\,\n\nJoin us virtually on Tuesday\, March 12 from 12-1PM CT for our Cycle 2 Information Session of 2024. As we approach the March 18 deadline to apply\, we want to provide more information on our process and open the floor for you to ask any questions you still have.\n\nHaving invested $125 million in 208 companies since 2006\, Central Texas Angel Network (CTAN) is one of the most active angel investing groups in the U.S. Headquartered in Austin\, Texas\, CTAN features more than 100 accredited investor business leaders from an extensive cross -section of sectors and backgrounds. CTAN members not only invest directly into startups and funds\; they mentor and connect entrepreneurs to business resources\, providing critical support to the success of early -stage business and the Texas economy.\n\nAny start up that is considering applying for funding should attend!
X-ALT-DESC;FMTTYPE=text/html:<p style="font-family: -apple-system\, BlinkMacSystemFont\, Roboto\, &quot\;Helvetica Neue&quot\;\, Helvetica\, Tahoma\, Arial\, sans-serif\; margin: 0px\; padding: 0px\; box-sizing: border-box\; color: rgb(111\, 114\, 135)\; font-size: 16px\; line-height: 1.5rem\;"><span style="font-family:arial\;"><span style="color:#000000\;"><span style="font-size:14px\;">Entrepreneurs\,</span></span></span></p>\n\n<p style="font-family: -apple-system\, BlinkMacSystemFont\, Roboto\, &quot\;Helvetica Neue&quot\;\, Helvetica\, Tahoma\, Arial\, sans-serif\; margin: 0px\; padding: 10px 0px 0px\; box-sizing: border-box\; color: rgb(111\, 114\, 135)\; font-size: 16px\; line-height: 1.5rem\;"><span style="font-family:arial\;"><span style="color:#000000\;"><span style="font-size:14px\;">Join us virtually on Tuesday\, March 12 from 12-1PM CT for our Cycle 2 Information Session of 2024. As we approach the March 18 deadline to apply\, we want to provide more information on our process and open the floor for you to ask any questions you still have.</span></span></span></p>\n\n<p style="font-family: -apple-system\, BlinkMacSystemFont\, Roboto\, &quot\;Helvetica Neue&quot\;\, Helvetica\, Tahoma\, Arial\, sans-serif\; margin: 0px\; padding: 10px 0px 0px\; box-sizing: border-box\; color: rgb(111\, 114\, 135)\; font-size: 16px\; line-height: 1.5rem\;"><span style="font-family:arial\;"><span style="color:#000000\;"><span style="font-size:14px\;">Having invested $125 million in 208 companies since 2006\, Central Texas Angel Network (CTAN) is one of the most active angel investing groups in the U.S. Headquartered in Austin\, Texas\, CTAN features more than 100 accredited investor business leaders from an extensive cross&shy\;-section of sectors and backgrounds. CTAN members not only invest directly into startups and funds\; they mentor and connect entrepreneurs to business resources\, providing critical support to the success of early&shy\;-stage business and the Texas economy.</span></span></span></p>\n\n<p style="font-family: -apple-system\, BlinkMacSystemFont\, Roboto\, &quot\;Helvetica Neue&quot\;\, Helvetica\, Tahoma\, Arial\, sans-serif\; margin: 0px\; padding: 10px 0px 0px\; box-sizing: border-box\; color: rgb(111\, 114\, 135)\; font-size: 16px\; line-height: 1.5rem\;"><span style="font-family:arial\;"><span style="color:#000000\;"><span style="font-size:14px\;">Any start up that is considering applying for funding should attend!</span></span></span></p>\n
LOCATION:Online
UID:e.3433.5258
SEQUENCE:3
DTSTAMP:20260421T144111Z
URL:https://business.growabilene.com/events/details/2024-funding-cycle-2-information-session-5258
END:VEVENT

END:VCALENDAR
