BEGIN:VCALENDAR
VERSION:2.0
PRODID:-//ChamberMaster//Event Calendar 2.0//EN
METHOD:PUBLISH
X-PUBLISHED-TTL:P3D
REFRESH-INTERVAL:P3D
CALSCALE:GREGORIAN
BEGIN:VEVENT
DTSTART:20240125T170000Z
DTEND:20240125T190000Z
X-MICROSOFT-CDO-ALLDAYEVENT:FALSE
SUMMARY:2024 Economic Outlook presented by First Bank & Trust
DESCRIPTION:The Abilene Chamber of Commerce and the Abilene Regional Growth Alliance presents\, the 2024 Economic Outlook\, sponsored by FirstBank & Trust. Join us as we bring together Chamber members and business owners to share market projections for the coming year. You can anticipate panels from industry experts covering workforce\, oil and gas\, agriculture\, real estate and a keynote from a lead economist\, Dr. Ray Perryman\, sponsored by Big Country Title\, all over lunch with some of your closest business friends.\n\n\n\nPRICING:\n\nTables of 8 are $400\n\nIndividual Tickets are $50
X-ALT-DESC;FMTTYPE=text/html:<span style="font-size:14px\;"><span style="font-family:arial\;">The Abilene Chamber of Commerce and the Abilene Regional Growth Alliance presents\, the 2024 Economic Outlook\, sponsored by&nbsp\;<em><a href="https://www.firstbanktexas.com/" target="_blank"><span style="color:#000000\;">FirstBank &amp\; Trust</span></a></em><span style="color:#000000\;">. Join us as we bring together Chamber members and business owners to share </span>market projections for the coming year. You can anticipate panels from industry experts covering workforce\, oil and gas\, agriculture\, real estate and a keynote from a lead economist\, Dr. Ray Perryman\,&nbsp\;<em>sponsored by <a href="https://www.bigcountrytitle.com/" target="_blank"><span style="color:#000000\;">Big Country Title</span></a>\,</em> all over lunch with some of your closest business friends.<br />\n<br />\n<strong>PRICING:</strong><br />\nTables of 8 are $400<br />\nIndividual Tickets are $50</span></span>\n<p class="p3" style="margin:0in\;font-stretch: normal\;-webkit-text-size-adjust: auto"><o:p></o:p></p>\n
LOCATION:Abilene Christian University Hunter Welcome Center 1949 ACU Dr\, Abilene\, TX 79699
UID:e.3433.4941
SEQUENCE:3
DTSTAMP:20260421T225913Z
URL:https://business.growabilene.com/events/details/2024-economic-outlook-presented-by-first-bank-trust-4941
END:VEVENT

END:VCALENDAR
