BEGIN:VCALENDAR
VERSION:2.0
PRODID:-//ChamberMaster//Event Calendar 2.0//EN
METHOD:PUBLISH
X-PUBLISHED-TTL:P3D
REFRESH-INTERVAL:P3D
CALSCALE:GREGORIAN
BEGIN:VEVENT
DTSTART:20240629T160000Z
DTEND:20240629T180000Z
X-MICROSOFT-CDO-ALLDAYEVENT:FALSE
SUMMARY:2024 Children's Business Fair presented by Abilene Teacher's Federal Credit Union
DESCRIPTION:This event is FREE and OPEN TO THE PUBLIC.\n\n\n\nKids create a product or service\, develop a brand\, build a marketing strategy\, and then open for customers at this one-day marketplace. The children are responsible for the setup\, sales\, and interacting with customers!\n\n\n\nPrizes will be awarded for best product or service potential\, quality\, presentation\, and customer service! \n\n\n\nREGISTER YOUR CHILD'S BUSINESS HERE!
X-ALT-DESC;FMTTYPE=text/html:<strong><span style="color:black\;"><span style="font-size:11.0pt\;">This event is FREE and OPEN TO THE PUBLIC.</span></span></strong><br />\n<br />\n<span style="font-size:11pt\;">Kids create a product or service\, develop a brand\, build a marketing strategy\, and then open for customers at this one-day marketplace. The children are responsible for the setup\, sales\, and interacting with customers!</span><br />\n<br />\n<span style="color:black\;"><span style="font-size:11.0pt\;">Prizes will be awarded for best product or service potential\, quality\, presentation\, and customer service!&nbsp\;</span></span><br />\n<br />\n<span style="font-size:14px\;"><span style="font-family:arial\;"><a href="https://business.growabilene.com/form/view/32954"><font color="#ff0000"><b>REGISTER YOUR CHILD&#39\;S BUSINESS </b></font></a><b><a href="https://business.growabilene.com/form/view/32954"><span style="color:#FF0000\;">HERE</span></a></b><font color="#ff0000"><b>!</b></font></span></span>
LOCATION:Mall of Abilene - Women's Dillards Courtyard
UID:e.3433.5182
SEQUENCE:3
DTSTAMP:20260421T075119Z
URL:https://business.growabilene.com/events/details/2024-children-s-business-fair-presented-by-abilene-teacher-s-federal-credit-union-5182
END:VEVENT

END:VCALENDAR
