BEGIN:VCALENDAR
VERSION:2.0
PRODID:-//ChamberMaster//Event Calendar 2.0//EN
METHOD:PUBLISH
X-PUBLISHED-TTL:P3D
REFRESH-INTERVAL:P3D
CALSCALE:GREGORIAN
BEGIN:VEVENT
DTSTART:20230209T150000Z
DTEND:20230209T160000Z
X-MICROSOFT-CDO-ALLDAYEVENT:FALSE
SUMMARY:20 Year Anniversary - American-Allied Pest Control
DESCRIPTION:
X-ALT-DESC;FMTTYPE=text/html:
LOCATION:278 S Pioneer Dr.\, Ste. 107 Abilene\, TX 79605
UID:e.3433.4875
SEQUENCE:3
DTSTAMP:20260422T175731Z
URL:https://business.growabilene.com/events/details/20-year-anniversary-american-allied-pest-control-4875
END:VEVENT

END:VCALENDAR
