BEGIN:VCALENDAR
VERSION:2.0
PRODID:-//ChamberMaster//Event Calendar 2.0//EN
METHOD:PUBLISH
X-PUBLISHED-TTL:P3D
REFRESH-INTERVAL:P3D
CALSCALE:GREGORIAN
BEGIN:VEVENT
DTSTART:20220728T210000Z
DTEND:20220728T220000Z
X-MICROSOFT-CDO-ALLDAYEVENT:FALSE
SUMMARY:2 Year Anniversary Circle H Meat Market & Mercantile
DESCRIPTION:
X-ALT-DESC;FMTTYPE=text/html:
LOCATION:633 E S 11th Abilene\, Texas 79602
UID:e.3433.4753
SEQUENCE:3
DTSTAMP:20260423T080645Z
URL:https://business.growabilene.com/events/details/2-year-anniversary-circle-h-meat-market-mercantile-4753
END:VEVENT

END:VCALENDAR
